Workbook

Sheet 記載例
AD1: 会員 | BF1: 出産祝金請求書
B2: 請求金額 | AP2: 一金 | BA2: ４０,０００ | CM2: 円也
B18: 加入者番号 | V18: 法人番号 | AK18: （ | AN18: 22 | AX18: ） | BA18: 事業所番号 | BR18: （ | BU18: 9876 | CG18: ） | CK18: 加入年月日 | DE18: 令和 | DL18: =入力用!DL18 -> 0 | DR18: 年 | DU18: =入力用!DU18 -> 0 | EA18: 月 | ED18: =入力用!ED18 -> 1 | EJ18: 日
V19: 加入者番号 | AM19: 98766
B20: 職氏名 | V20: 管理栄養士 | BN20: 福利 厚子 | DE20: 〇〇保育園
B36: 分娩者 | V36: 氏名 | AG36: 福利 厚子 | CI36: 会員との続柄 | DE36: 本人
CI37: 分娩者生年月日 | DE37: 平成 | DL37: 10 | DR37: 年 | DU37: 9 | EA37: 月 | ED37: 8 | EJ37: 日
B38: 事業主の
V41: 上の者、 | AL41: 令和 | AU41: 6 | BB41: 年 | BG41: 10 | BN41: 月 | BS41: 2 | BZ41: 日 | CE41: 男児 | CN41: 1 | CS41: 名 | CX41: を分娩したことを証明する。
CE42: 女児 | CN42: 1 | CS42: 名
BD45: （ | BH45: 〒 | BL45: 11 | BU45: － | BY45: 7777 | CK45: ）
B50: 証明㊞ | AG50: 施設又は団体等の 住所 | BF50: 秋田市旭北東町９－８－７
AG56: 事業主名 | BF56: 社会福祉法人 ○○会
BF62: 理事長 | CC62: 秋田 福利
D74: 上のとおり、出産祝金を請求します。
H80: 令和 | O80: 6 | U80: 年 | X80: 10 | AD80: 月 | AG80: 10 | AM80: 日
ED82: 印
AQ88: （ | AU88: 〒 | AY88: 10 | BH88: － | BL88: 8888 | BX88: ）
AD93: 住 所 | AS93: 秋田市旭北西町１－２－３
AD102: 氏 名 | AS102: 福利 厚子
AI112: ・ | AM112: 新秋田信用金庫 | BP112: 新秋田支店 | CS112: 普 口座番号 | DM112: 12345
CE122: ふりがな | CU122: ふくり こうこ
CE126: 本人名義 | CU126: 福利 厚子
CE135: ※ふりがなは必ずしてください。
D147: 一般財団法人 秋田県民間社会事業福利協会理事長 殿
B157: 備 考 | V157: 出生届出済証明書付母子手帳もしくは戸籍謄本の複写したものを添付すること。

Sheet 入力用
A1: ※種類選択は「会員」または「配偶者」を選択してください。 | AD1: 配偶者 | BC1: 出産祝金請求書入力フォーム
A2: 請求金額 | V2: =REPLACE(EQ37,3,0,",") -> ０, | EN2: 種類選択▼ | EO2: 表示されます | EP2: 年号 ▼ | EQ2: 選択▼ | ER2: 選択▼
EN3: 会員 | EO3: 本人 | EP3: 昭和 | EQ3: 本人 | ER3: 男
EN4: 配偶者 | EO4: 配偶者 | EP4: 平成 | EQ4: 配偶者 | ER4: 女
EP5: 令和 | ER5: 双生
A18: 加入者番号 | V18: 法人番号 | AK18: （ | AX18: ） | BA18: 事業所番号 | BR18: （ | CG18: ） | CJ18: 加入年月日 | DE18: 年号 ▼ | DR18: 年 | EA18: 月 | ED18: 1 | EJ18: 日
V19: 加入者番号
A20: 職氏名
A36: 分娩者 | V36: 氏名 | CH36: 会員との続柄 | DD36: =VLOOKUP(AD1,EN2:EO4,2,FALSE) -> 配偶者
CH37: 分娩者生年月日 | DD37: 年号 ▼ | DR37: 年 | EA37: 月 | EJ37: 日 | EN37: =CN41+CN42 -> 0 | EO37: 20000 | EP37: =EN37*EO37 -> 0 | EQ37: =DBCS(EP37) -> ０
A38: 事業主の
V41: 上の者、 | AJ41: 令和 | BA41: 年 | BN41: 月 | CA41: 日 | CF41: 男児 | CV41: 名 | DA41: を分娩したことを証明する。
CF42: 女児 | CV42: 名
BD45: （ | BH45: 〒 | BU45: － | CK45: ）
A50: 証明㊞ | AG50: 住所
AG56: 法人名または 事業所名
AG62: 事業主名 | DY62: 印
A70: 上のとおり、出産祝金を請求します。
A79: 令和 | U79: 年 | AD79: 月 | AM79: 日
AQ87: （ | AU87: 〒 | BH87: － | BX87: ）
AD93: 住 所
AD104: 氏 名 | EC104: ㊞
H114: 振込先口座 ※間違いがないよう、必ず確認をして下さい。 | AM114: 銀行名 | BP114: 支店名
BG117: 銀行 | CJ117: 支店 | CR117: 普 口座番号
CE128: ふりがな
CE132: 本人名義
CF141: ※姓と名の間にスペースを入れて下さい。
A572: このシートは出産祝金請求書の入力フォームです。 「印刷用」と記載されたシートタブを印刷してください。

Sheet 印刷用
AD1: =入力用!$AD$1 -> 配偶者 | BF1: 出産祝金請求書
B2: 請求金額 | AP2: 一金 | BA2: =入力用!V2 -> ０, | CM2: 円也
B17: 加入者番号 | V17: 法人番号 | AK17: （ | AN17: =入力用!AN18 -> 0 | AX17: ） | BA17: 事業所番号 | BR17: （ | BU17: =入力用!BU18 -> 0 | CG17: ） | CJ17: 加入年月日 | DC17: =入力用!DE18 -> 年号 ▼ | DK17: =入力用!DL18 -> 0 | DQ17: 年 | DT17: =入力用!DU18 -> 0 | DZ17: 月 | EC17: =入力用!ED18 -> 1 | EI17: 日
V18: 加入者番号 | AM18: =入力用!AM19 -> 0
B19: 職氏名 | V19: =入力用!$V$20 -> 0 | BN19: =入力用!$BJ$20 -> 0 | DE19: =入力用!$DE$20 -> 0
B34: 分娩者 | V34: 氏 名 | AF34: =入力用!$AG$36 -> 0 | CE34: 会員との続柄 | DA34: =入力用!DD36 -> 配偶者
CE35: 分娩者生年月日 | DA35: =入力用!DD37 -> 年号 ▼ | DH35: =入力用!DL37 -> 0 | DN35: 年 | DR35: =入力用!DU37 -> 0 | DX35: 月 | EB35: =入力用!ED37 -> 0 | EH35: 日
B36: 事業主の
V38: 上の者、 | AL38: 令和 | AU38: =入力用!AS41 -> 0 | BB38: 年 | BG38: =入力用!BF41 -> 0 | BN38: 月 | BS38: =入力用!BS41 -> 0 | BZ38: 日 | CE38: 男児 | CN38: =入力用!CN41 -> 0 | CS38: 名 | CX38: を分娩したことを証明する。
CE39: 女児 | CN39: =入力用!CN42 -> 0 | CS39: 名
BD42: （ | BH42: 〒 | BL42: =入力用!$BL$45 -> 0 | BU42: － | BY42: =入力用!$BY$45 -> 0 | CK42: ）
B47: 証明㊞ | AG47: 施設又は団体等の 住所 | BF47: =入力用!BF50 -> 0
AG53: 事業主名 | BF53: =入力用!BF56 -> 0
BF59: =入力用!$BF$62 -> 0 | CC59: =入力用!$CC$62 -> 0
DY60: 印
D71: 上のとおり、出産祝金を請求します。
H77: 令和 | O77: =入力用!O79 -> 0 | U77: 年 | X77: =入力用!X79 -> 0 | AD77: 月 | AG77: =入力用!AG79 -> 0 | AM77: 日
ED79: 印
AQ83: （ | AU83: 〒 | AY83: =入力用!$AY$87 -> 0 | BH83: － | BL83: =入力用!$BL$87 -> 0 | BX83: ）
AD89: 住 所 | AS89: =入力用!$AS$93 -> 0
AD99: 氏 名 | AS99: =入力用!$AS$104 -> 0 | DY99: ㊞
AI109: ・ | AM109: =入力用!AM117 -> 0 | BG109: =入力用!BG117 -> 銀行 | BP109: =入力用!BP117 -> 0 | CJ109: =入力用!CJ117 -> 支店 | CS109: 普 口座番号 | DM109: =入力用!$DM$117 -> 0
CE119: ふりがな | CU119: =入力用!CU128 -> 0
CE123: 本人名義 | CU123: =入力用!CU132 -> 0
CE132: ※ふりがなは必ずしてください。
D141: 一般財団法人 秋田県民間社会事業福利協会理事長 殿
B150: 備 考 | V150: 出生届出済証明書付母子手帳もしくは戸籍謄本の複写したものを添付すること。
