Workbook

Sheet 記載例
AD1: 親族 | BF1: 死亡弔慰金請求書
B2: 請求金額 | AP2: 一金 | BA2: １０,０００ | CM2: 円也
B14: 加入者番号 | V14: 法人番号 | AK14: （ | AN14: 22 | AX14: ） | BA14: 事業所番号 | BR14: （ | BU14: 9876 | CG14: ） | CJ14: 加入年月日 | DE14: 平成 | DL14: 20 | DR14: 年 | DU14: 4 | EA14: 月 | ED14: 1 | EJ14: 日
V15: 加入者番号 | AM15: 98765
B16: 職氏名 | V16: 主任介護士 | BN16: 福利 協太 | DE16: ○○園
B28: 死亡者 | V28: 氏 名 | AK28: 福利 協平 | CJ28: 会員との続柄 | DE28: 実父
DA29: 昭和 | DH29: 10 | DN29: 年 | DQ29: 9 | DW29: 月 | DZ29: 8 | EF29: 日生
B30: 死亡年月日 | V30: 令和 | AC30: 6 | AI30: 年 | AL30: 10 | AR30: 月 | AU30: 2 | BA30: 日死亡
B36: 原因 | V36: 老衰
B42: 事業主の
X45: 死亡したことを証明する。
BD52: （ | BH52: 〒 | BL52: 11 | BU52: － | BY52: 7777 | CK52: ）
AG57: 施設又は団体等の 住所 | BF57: 秋田市旭北東町９－８－７
B63: 証明㊞ | AG63: 事業主名 | BF63: 社会福祉法人 ○○会
BF69: 理事長 | CC69: 秋田 福利
D81: 上のとおり死亡したので、死亡弔慰金を請求します。
H86: 令和 | O86: 6 | U86: 年 | X86: 10 | AD86: 月 | AG86: 15 | AM86: 日
AQ93: （ | AU93: 〒 | AY93: 10 | BH93: － | BL93: 8888 | BX93: ）
AD98: 住 所 | AS98: 秋田市旭北西町１－２－３
AD107: 氏 名 | AS107: 福利 協太
AI119: ・ | AM119: 新秋田銀行 | BP119: 本所 | CS119: 普 口座番号 | DM119: 98765
CE129: ふりがな | CU129: ふくり きょうた
CE133: 本人名義 | CU133: 福利 協太
CE142: ※ふりがなは必ずしてください。
D150: 一般財団法人 秋田県民間社会事業福利協会理事長 殿
A158: 備 考 | V158: 親族とは一親等内血族。 本人死亡の場合は死亡診断書を複写したものを添付すること。 配偶者・親族死亡の場合は、戸籍謄本及び死亡診断書の複写したものを添付すること。 特に親族死亡の場合、亡くなった方と戸籍が別々場合は会員の戸籍謄本または抄本。

Sheet 入力用
A1: ※種類選択は「会員」「配偶者」「親族」のいずれかを忘れずに選択してください。 | AD1: 種類選択▼ | BF1: 死亡弔慰金請求書入力フォーム
B2: 請求金額 | AP2: 一金 | BA2: =VLOOKUP(AD1,EN2:EO5,2,FALSE) -> 金額が表示されます | CM2: 円也 | CX2: ※種類を選択すると金額が 自動表示されます。 | EN2: 種類選択▼ | EO2: 金額が表示されます | EP2: 続柄を選択▼
EN3: 会員 | EO3: ５０,０００ | EP3: 本人
EN4: 配偶者 | EO4: ３０,０００ | EP4: 妻
EN5: 親族 | EO5: １０,０００ | EP5: 夫
EP6: 実父
EP7: 実母
EP8: 養父
EP9: 養母
EP10: 子
B14: 加入者番号 | V14: 法人番号 | AK14: （ | AX14: ） | BA14: 事業所番号 | BR14: （ | CG14: ） | CJ14: 加入年月日 | DD14: 年号▼ | DR14: 年 | EA14: 月 | ED14: 1 | EJ14: 日 | EP14: 年号▼
V15: 加入者番号 | EP15: 大正
B16: 職氏名 | EP16: 昭和
EP17: 平成
EP18: 令和
B28: 死亡者 | V28: 氏 名 | CJ28: 会員との続柄 | DE28: 続柄を選択▼
CJ29: 死亡者の 生年月日 | CZ29: 年号▼ | DN29: 年 | DW29: 月 | EF29: 日生
B30: 死亡年月日 | V30: 令和 | AI30: 年 | AR30: 月 | BA30: 日死亡 | BL30: ※死亡診断書等に記載された原因を記載してください。
B36: 原因
B42: 事業主の | V42: 死亡したことを証明する。
BD52: （ | BH52: 〒 | BU52: － | CK52: ）
AG57: 住所
B63: 証明㊞ | AG63: 法人名または 事業所名
AG69: 事業主名 | DY69: 印
A77: 上のとおり死亡したので、死亡弔慰金を請求します。
A85: 令和 | U85: 年 | AD85: 月 | AM85: 日 | AP85: 印
AQ92: （ | AU92: 〒 | BH92: － | BX92: ）
AD97: 住所 ※２
AD108: 氏名 ※２ | EC108: ㊞
H118: 振込先口座 ※２ ※お間違いがないよう、 必ず確認をしてください。 | AM118: 銀行名 | BP118: 支店名
BG121: 銀行 | CJ121: 支店 | CS121: 普 口座番号
CE131: ふりがな
CE135: 本人名義
CE143: ※姓と名の間にスペースを入れてください。
A610: このシートは死亡弔慰金請求書の入力フォームです。 「印刷用」と書かれたシートタブを選択し、印刷してください。

Sheet 印刷用
AD1: =入力用!$AD$1 -> 種類選択▼ | BF1: 死亡弔慰金請求書
B2: 請求金額 | AP2: 一金 | BA2: =入力用!$BA$2 -> 金額が表示されます | CM2: 円也
B15: 加入者番号 | V15: 法人番号 | AK15: （ | AN15: =入力用!AN14 -> 0 | AX15: ） | BA15: 事業所番号 | BR15: （ | BU15: =入力用!BU14 -> 0 | CG15: ） | CJ15: 加入年月日 | DC15: =入力用!DD14 -> 年号▼ | DK15: =入力用!DL14 -> 0 | DQ15: 年 | DT15: =入力用!DU14 -> 0 | DZ15: 月 | EC15: =入力用!ED14 -> 1 | EI15: 日
V16: 加入者番号 | AM16: =入力用!AM15 -> 0
B17: 職氏名 | V17: =入力用!$V$16 -> 0 | BN17: =入力用!$BJ$16 -> 0 | DE17: =入力用!$DE$16 -> 0
B30: 死亡者 | V30: 氏 名 | AK30: =入力用!$AK$28 -> 0 | CJ30: 会員との続柄 | DE30: =入力用!$DE$28 -> 続柄を選択▼
CX31: =入力用!CZ29 -> 年号▼ | DF31: =入力用!DH29 -> 0 | DL31: 年 | DO31: =入力用!$DQ$29 -> 0 | DU31: 月 | DX31: =入力用!$DZ$29 -> 0 | ED31: 日生
B32: 死亡年月日 | V32: 令和 | AC32: =入力用!$AC$30 -> 0 | AI32: 年 | AL32: =入力用!$AL$30 -> 0 | AR32: 月 | AU32: =入力用!$AU$30 -> 0 | BA32: 日死亡
B38: 原因 | V38: =入力用!$V$36 -> 0
B45: 事業主の
X48: 死亡したことを証明する。
BD55: （ | BH55: 〒 | BL55: =入力用!$BL$52 -> 0 | BU55: － | BY55: =入力用!$BY$52 -> 0 | CK55: ）
AG60: 施設又は団体等の 住所 | BF60: =入力用!BF57 -> 0
B66: 証明㊞ | AG66: 事業主名 | BF66: =入力用!BF63 -> 0
BF72: =入力用!$BF$69 -> 0 | CC72: =入力用!$CC$69 -> 0
DY73: 印
D84: 上のとおり死亡したので、死亡弔慰金を請求します。
G89: 令和 | O89: =入力用!$O$85 -> 0 | U89: 年 | X89: =入力用!$X$85 -> 0 | AD89: 月 | AG89: =入力用!$AG$85 -> 0 | AM89: 日
AQ96: （ | AU96: 〒 | AY96: =入力用!$AY$92 -> 0 | BH96: － | BL96: =入力用!$BL$92 -> 0 | BX96: ）
AD101: 住 所 | AS101: =入力用!$AS$97 -> 0
AD112: 氏 名 | AS112: =入力用!$AS$108 -> 0 | DY112: ㊞
AI124: ・ | AM124: =入力用!AM121 -> 0 | BG124: =入力用!BG121 -> 銀行 | BP124: =入力用!BP121 -> 0 | CJ124: =入力用!CJ121 -> 支店 | CS124: 普 口座番号 | DM124: =入力用!$DM$121 -> 0
CE134: ふりがな | CU134: =入力用!CU131 -> 0
CE138: 本人名義 | CU138: =入力用!CU135 -> 0
CE147: ※ふりがなは必ずしてください。
D155: 一般財団法人 秋田県民間社会事業福利協会理事長 殿
A163: 備 考 | V163: 親族とは一親等内血族。 本人死亡の場合は死亡診断書を複写したものを添付すること。 配偶者・親族死亡の場合は、戸籍謄本及び死亡診断書の複写したものを添付すること。 特に親族死亡の場合、亡くなった方と戸籍が別々場合は会員の戸籍謄本または抄本。
